BEGIN:VCALENDAR
VERSION:2.0
PRODID:-//hacksw/handcal//NONSGML v1.0//EN
CALSCALE:GREGORIAN
BEGIN:VEVENT
UID:69e8c9b71f94e
DTSTAMP:20260422T131431Z
DESCRIPTION:[W] Ohio Wesleyan University Field Hockey at CentreW 1-0Streaming Video: https://centrecolonels.com/showcase?Live=631
SUMMARY:Ohio Wesleyan University Field Hockey at Centre
DTSTART:20240915T183000Z
DTEND:20240915T213000Z
END:VEVENT
END:VCALENDAR
