BEGIN:VCALENDAR
VERSION:2.0
PRODID:-//hacksw/handcal//NONSGML v1.0//EN
CALSCALE:GREGORIAN
BEGIN:VEVENT
UID:69e852577fc4e
DTSTAMP:20260422T044511Z
DESCRIPTION:[L] Ohio Wesleyan University Field Hockey at Christopher NewportL 0-4Streaming Video: https://www.cnusports.com/watch
SUMMARY:Ohio Wesleyan University Field Hockey at Christopher Newport
DTSTART:20240920T200000Z
DTEND:20240920T230000Z
END:VEVENT
END:VCALENDAR
