BEGIN:VCALENDAR
VERSION:2.0
PRODID:-//hacksw/handcal//NONSGML v1.0//EN
CALSCALE:GREGORIAN
BEGIN:VEVENT
UID:69e88c9061ec1
DTSTAMP:20260422T085336Z
DESCRIPTION:[L] Ohio Wesleyan University Field Hockey at CortlandL 1-2Streaming Video: https://www.ncaa.com/game/6343797
SUMMARY:Ohio Wesleyan University Field Hockey at Cortland
DTSTART:20241113T190000Z
DTEND:20241113T220000Z
END:VEVENT
END:VCALENDAR
