BEGIN:VCALENDAR
VERSION:2.0
PRODID:-//hacksw/handcal//NONSGML v1.0//EN
CALSCALE:GREGORIAN
BEGIN:VEVENT
UID:69ebcb2c4a6e9
DTSTAMP:20260424T195732Z
DESCRIPTION:[W] Ohio Wesleyan University Field Hockey at EarlhamW 9-0Streaming Video: https://goearlham.com/sports/2022/4/20/live-video-homepage.aspx https://www.battlingbishops.com/calendar.aspx?game_id=8478&amp\;sport_id=2
SUMMARY:Ohio Wesleyan University Field Hockey at Earlham
DTSTART:20231011T210000Z
DTEND:20231012T000000Z
END:VEVENT
END:VCALENDAR
