BEGIN:VCALENDAR
VERSION:2.0
PRODID:-//hacksw/handcal//NONSGML v1.0//EN
CALSCALE:GREGORIAN
BEGIN:VEVENT
UID:69e7fcbf995b8
DTSTAMP:20260421T223959Z
DESCRIPTION:[W] Ohio Wesleyan University Field Hockey at KenyonW 3-2 (OT)Streaming Video: https://www.northcoastnetwork.com/kenyon/?B=1145764
SUMMARY:Ohio Wesleyan University Field Hockey at Kenyon
DTSTART:20240924T203000Z
DTEND:20240924T233000Z
END:VEVENT
END:VCALENDAR
