BEGIN:VCALENDAR
VERSION:2.0
PRODID:-//hacksw/handcal//NONSGML v1.0//EN
CALSCALE:GREGORIAN
BEGIN:VEVENT
UID:69ec2675a4961
DTSTAMP:20260425T022701Z
DESCRIPTION:[W] Ohio Wesleyan University Field Hockey at OberlinW 3-0Streaming Video: https://oberlinsportsnetwork.com/ https://www.battlingbishops.com/calendar.aspx?game_id=8477&amp\;sport_id=2
SUMMARY:Ohio Wesleyan University Field Hockey at Oberlin
DTSTART:20231007T160000Z
DTEND:20231007T190000Z
END:VEVENT
END:VCALENDAR
