BEGIN:VCALENDAR
VERSION:2.0
PRODID:-//hacksw/handcal//NONSGML v1.0//EN
CALSCALE:GREGORIAN
BEGIN:VEVENT
UID:69ecf5f8c0559
DTSTAMP:20260425T171224Z
DESCRIPTION:[W] Ohio Wesleyan University Field Hockey at WittenbergW 2-0Streaming Video: https://www.youtube.com/channel/UC5OiQ9Jq6jptNpq_kgLI6gQ https://www.battlingbishops.com/calendar.aspx?game_id=8474&amp\;sport_id=2
SUMMARY:Ohio Wesleyan University Field Hockey at Wittenberg
DTSTART:20230927T230000Z
DTEND:20230928T020000Z
END:VEVENT
END:VCALENDAR
