BEGIN:VCALENDAR
VERSION:2.0
PRODID:-//hacksw/handcal//NONSGML v1.0//EN
CALSCALE:GREGORIAN
BEGIN:VEVENT
UID:69e7681870b31
DTSTAMP:20260421T120544Z
DESCRIPTION:[W] Ohio Wesleyan University Field Hockey at WoosterW 1-0 (OT)Streaming Video: https://northcoastnetwork.com/wooster/
SUMMARY:Ohio Wesleyan University Field Hockey at Wooster
DTSTART:20241102T160000Z
DTEND:20241102T190000Z
END:VEVENT
END:VCALENDAR
