BEGIN:VCALENDAR
VERSION:2.0
PRODID:-//hacksw/handcal//NONSGML v1.0//EN
CALSCALE:GREGORIAN
BEGIN:VEVENT
UID:69eac230b8e77
DTSTAMP:20260424T010656Z
DESCRIPTION:[W] Ohio Wesleyan University Field Hockey vs DenisonW 1-0 (SO)Streaming Video: https://www.northcoastnetwork.com/ohiowesleyan/ https://www.battlingbishops.com/calendar.aspx?game_id=8481&amp\;sport_id=2
SUMMARY:Ohio Wesleyan University Field Hockey vs Denison
DTSTART:20231025T200000Z
DTEND:20231025T230000Z
END:VEVENT
END:VCALENDAR
