BEGIN:VCALENDAR
VERSION:2.0
PRODID:-//hacksw/handcal//NONSGML v1.0//EN
CALSCALE:GREGORIAN
BEGIN:VEVENT
UID:69e9e750e5fa1
DTSTAMP:20260423T093304Z
DESCRIPTION:[L] Ohio Wesleyan University Field Hockey vs DenisonL 0-1 (OT)Streaming Video: https://www.northcoastnetwork.com/ohiowesleyan/ https://www.battlingbishops.com/calendar.aspx?game_id=8484&amp\;sport_id=2
SUMMARY:Ohio Wesleyan University Field Hockey vs Denison
DTSTART:20231104T160000Z
DTEND:20231104T190000Z
END:VEVENT
END:VCALENDAR
