BEGIN:VCALENDAR
VERSION:2.0
PRODID:-//hacksw/handcal//NONSGML v1.0//EN
CALSCALE:GREGORIAN
BEGIN:VEVENT
UID:69e83a950d5b6
DTSTAMP:20260422T030349Z
DESCRIPTION:[W] Ohio Wesleyan University Field Hockey vs DenisonW 1-0Streaming Video: https://www.northcoastnetwork.com/ohiowesleyan/
SUMMARY:Ohio Wesleyan University Field Hockey vs Denison
DTSTART:20241109T170000Z
DTEND:20241109T200000Z
END:VEVENT
END:VCALENDAR
