BEGIN:VCALENDAR
VERSION:2.0
PRODID:-//hacksw/handcal//NONSGML v1.0//EN
CALSCALE:GREGORIAN
BEGIN:VEVENT
UID:69e7e33ee0be2
DTSTAMP:20260421T205110Z
DESCRIPTION:[W] Ohio Wesleyan University Field Hockey vs DePauwW 4-0Streaming Video: https://www.northcoastnetwork.com/ohiowesleyan/
SUMMARY:Ohio Wesleyan University Field Hockey vs DePauw
DTSTART:20241107T000000Z
DTEND:20241107T030000Z
END:VEVENT
END:VCALENDAR
