BEGIN:VCALENDAR
VERSION:2.0
PRODID:-//hacksw/handcal//NONSGML v1.0//EN
CALSCALE:GREGORIAN
BEGIN:VEVENT
UID:69ea379cbd237
DTSTAMP:20260423T151540Z
DESCRIPTION:[W] Ohio Wesleyan University Field Hockey vs KenyonW 6-0Streaming Video: https://www.northcoastnetwork.com/ohiowesleyan/ https://www.battlingbishops.com/calendar.aspx?game_id=8483&amp\;sport_id=2
SUMMARY:Ohio Wesleyan University Field Hockey vs Kenyon
DTSTART:20231101T230000Z
DTEND:20231102T020000Z
END:VEVENT
END:VCALENDAR
