BEGIN:VCALENDAR
VERSION:2.0
PRODID:-//hacksw/handcal//NONSGML v1.0//EN
CALSCALE:GREGORIAN
BEGIN:VEVENT
UID:69e95f3a65876
DTSTAMP:20260422T235226Z
DESCRIPTION:[W] Ohio Wesleyan University Field Hockey vs Marian (Wis.)W 4-0Streaming Video: https://www.northcoastnetwork.com/ohiowesleyan/
SUMMARY:Ohio Wesleyan University Field Hockey vs Marian (Wis.)
DTSTART:20240908T160000Z
DTEND:20240908T190000Z
END:VEVENT
END:VCALENDAR
