BEGIN:VCALENDAR
VERSION:2.0
PRODID:-//hacksw/handcal//NONSGML v1.0//EN
CALSCALE:GREGORIAN
BEGIN:VEVENT
UID:69e9e7a435857
DTSTAMP:20260423T093428Z
DESCRIPTION:[N] Ohio Wesleyan University Field Hockey vs Nichols vs. Westfield State Westfield State\, 4-1Streaming Video: https://go.flosports.tv/partner/newmac?contract_id=0063m00000ufap2aaa&sp=conf-partner
SUMMARY:Ohio Wesleyan University Field Hockey vs Nichols vs. Westfield State
DTSTART:20240831T160000Z
DTEND:20240831T190000Z
END:VEVENT
END:VCALENDAR
