BEGIN:VCALENDAR
VERSION:2.0
PRODID:-//hacksw/handcal//NONSGML v1.0//EN
CALSCALE:GREGORIAN
BEGIN:VEVENT
UID:69e8de1f5a129
DTSTAMP:20260422T144135Z
DESCRIPTION:[W] Ohio Wesleyan University Field Hockey vs RhodesW 4-1Streaming Video: https://centrecolonels.com/showcase?Live=629
SUMMARY:Ohio Wesleyan University Field Hockey vs Rhodes
DTSTART:20240914T183000Z
DTEND:20240914T213000Z
END:VEVENT
END:VCALENDAR
