BEGIN:VCALENDAR
VERSION:2.0
PRODID:-//hacksw/handcal//NONSGML v1.0//EN
CALSCALE:GREGORIAN
BEGIN:VEVENT
UID:69e7aa1c6f34f
DTSTAMP:20260421T164724Z
DESCRIPTION:[W] Ohio Wesleyan University Field Hockey vs SewaneeW 2-0Streaming Video: https://www.northcoastnetwork.com/ohiowesleyan/
SUMMARY:Ohio Wesleyan University Field Hockey vs Sewanee
DTSTART:20240927T230000Z
DTEND:20240928T020000Z
END:VEVENT
END:VCALENDAR
