BEGIN:VCALENDAR
VERSION:2.0
PRODID:-//hacksw/handcal//NONSGML v1.0//EN
CALSCALE:GREGORIAN
BEGIN:VEVENT
UID:69eba4d8780a8
DTSTAMP:20260424T171400Z
DESCRIPTION:[W] Ohio Wesleyan University Field Hockey vs Washington & JeffersonW 5-0Streaming Video: https://www.northcoastnetwork.com/ohiowesleyan/ https://www.battlingbishops.com/calendar.aspx?game_id=8479&amp\;sport_id=2
SUMMARY:Ohio Wesleyan University Field Hockey vs Washington & Jefferson
DTSTART:20231014T170000Z
DTEND:20231014T200000Z
END:VEVENT
END:VCALENDAR
