BEGIN:VCALENDAR
VERSION:2.0
PRODID:-//hacksw/handcal//NONSGML v1.0//EN
CALSCALE:GREGORIAN
BEGIN:VEVENT
UID:69e73ab2f1380
DTSTAMP:20260421T085202Z
DESCRIPTION:[W] Ohio Wesleyan University Field Hockey vs Westfield StateW 7-1Streaming Video: https://go.flosports.tv/partner/newmac?contract_id=0063m00000ufap2aaa&sp=conf-partner
SUMMARY:Ohio Wesleyan University Field Hockey vs Westfield State
DTSTART:20240830T203000Z
DTEND:20240830T233000Z
END:VEVENT
END:VCALENDAR
