BEGIN:VCALENDAR
VERSION:2.0
PRODID:-//hacksw/handcal//NONSGML v1.0//EN
CALSCALE:GREGORIAN
BEGIN:VEVENT
UID:69e539039ff6c
DTSTAMP:20260419T202019Z
DESCRIPTION:[W] Ohio Wesleyan University Field Hockey vs WittenbergW 3-0Streaming Video: https://www.northcoastnetwork.com/ohiowesleyan/
SUMMARY:Ohio Wesleyan University Field Hockey vs Wittenberg
DTSTART:20241030T230000Z
DTEND:20241031T020000Z
END:VEVENT
END:VCALENDAR
