BEGIN:VCALENDAR
VERSION:2.0
PRODID:-//hacksw/handcal//NONSGML v1.0//EN
CALSCALE:GREGORIAN
BEGIN:VEVENT
UID:69ea8a636dc42
DTSTAMP:20260423T210851Z
DESCRIPTION:[W] Ohio Wesleyan University Field Hockey vs WoosterW 3-0Streaming Video: https://www.northcoastnetwork.com/ohiowesleyan/ https://www.battlingbishops.com/calendar.aspx?game_id=8482&amp\;sport_id=2
SUMMARY:Ohio Wesleyan University Field Hockey vs Wooster
DTSTART:20231028T160000Z
DTEND:20231028T190000Z
END:VEVENT
END:VCALENDAR
