BEGIN:VCALENDAR
VERSION:2.0
PRODID:-//hacksw/handcal//NONSGML v1.0//EN
CALSCALE:GREGORIAN
BEGIN:VEVENT
UID:69e840c642bba
DTSTAMP:20260422T033014Z
DESCRIPTION:[L] Ohio Wesleyan University Field Hockey vs York (Pa.)L 0-2Streaming Video: https://www.cnusports.com/watch
SUMMARY:Ohio Wesleyan University Field Hockey vs York (Pa.)
DTSTART:20240921T180000Z
DTEND:20240921T210000Z
END:VEVENT
END:VCALENDAR
