BEGIN:VCALENDAR
VERSION:2.0
PRODID:-//hacksw/handcal//NONSGML v1.0//EN
CALSCALE:GREGORIAN
BEGIN:VEVENT
UID:69e887c2c1dc1
DTSTAMP:20260422T083306Z
DESCRIPTION:Ohio Wesleyan University Football at Denison
SUMMARY:Ohio Wesleyan University Football at Denison
DTSTART:20260926T170000Z
DTEND:20260926T200000Z
END:VEVENT
END:VCALENDAR
