BEGIN:VCALENDAR
VERSION:2.0
PRODID:-//hacksw/handcal//NONSGML v1.0//EN
CALSCALE:GREGORIAN
BEGIN:VEVENT
UID:69e95f586aeb3
DTSTAMP:20260422T235256Z
DESCRIPTION:[L] Ohio Wesleyan University Football at DenisonL 26-29Streaming Video: https://www.northcoastnetwork.com/denison/ https://www.battlingbishops.com/calendar.aspx?game_id=8268&amp\;sport_id=3
SUMMARY:Ohio Wesleyan University Football at Denison
DTSTART:20231111T180000Z
DTEND:20231111T210000Z
END:VEVENT
END:VCALENDAR
