BEGIN:VCALENDAR
VERSION:2.0
PRODID:-//hacksw/handcal//NONSGML v1.0//EN
CALSCALE:GREGORIAN
BEGIN:VEVENT
UID:69e5ef217b607
DTSTAMP:20260420T091721Z
DESCRIPTION:Ohio Wesleyan University Football at DePauw
SUMMARY:Ohio Wesleyan University Football at DePauw
DTSTART:20260919T170000Z
DTEND:20260919T200000Z
END:VEVENT
END:VCALENDAR
