BEGIN:VCALENDAR
VERSION:2.0
PRODID:-//hacksw/handcal//NONSGML v1.0//EN
CALSCALE:GREGORIAN
BEGIN:VEVENT
UID:69e7969d562e7
DTSTAMP:20260421T152413Z
DESCRIPTION:[L] Ohio Wesleyan University Football at FranklinL 14-27Streaming Video: https://www.indianasrn.org/Games_HCAC.php
SUMMARY:Ohio Wesleyan University Football at Franklin
DTSTART:20240928T173000Z
DTEND:20240928T203000Z
END:VEVENT
END:VCALENDAR
