BEGIN:VCALENDAR
VERSION:2.0
PRODID:-//hacksw/handcal//NONSGML v1.0//EN
CALSCALE:GREGORIAN
BEGIN:VEVENT
UID:69eba2e1157f7
DTSTAMP:20260424T170537Z
DESCRIPTION:[W] Ohio Wesleyan University Football at HiramW 19-18Streaming Video: https://vcloud.blueframetech.com/broadcast/embed/616571 https://www.battlingbishops.com/calendar.aspx?game_id=8265&amp\;sport_id=3
SUMMARY:Ohio Wesleyan University Football at Hiram
DTSTART:20231014T170000Z
DTEND:20231014T200000Z
END:VEVENT
END:VCALENDAR
