BEGIN:VCALENDAR
VERSION:2.0
PRODID:-//hacksw/handcal//NONSGML v1.0//EN
CALSCALE:GREGORIAN
BEGIN:VEVENT
UID:69e7508a0c663
DTSTAMP:20260421T102514Z
DESCRIPTION:Ohio Wesleyan University Football at Kenyon
SUMMARY:Ohio Wesleyan University Football at Kenyon
DTSTART:20261114T180000Z
DTEND:20261114T210000Z
END:VEVENT
END:VCALENDAR
