BEGIN:VCALENDAR
VERSION:2.0
PRODID:-//hacksw/handcal//NONSGML v1.0//EN
CALSCALE:GREGORIAN
BEGIN:VEVENT
UID:69e83731c8519
DTSTAMP:20260422T024921Z
DESCRIPTION:[L] Ohio Wesleyan University Football at KenyonL 12-13Streaming Video: https://www.northcoastnetwork.com/kenyon/
SUMMARY:Ohio Wesleyan University Football at Kenyon
DTSTART:20241109T180000Z
DTEND:20241109T210000Z
END:VEVENT
END:VCALENDAR
