BEGIN:VCALENDAR
VERSION:2.0
PRODID:-//hacksw/handcal//NONSGML v1.0//EN
CALSCALE:GREGORIAN
BEGIN:VEVENT
UID:69e6d2f5cc6de
DTSTAMP:20260421T012925Z
DESCRIPTION:Ohio Wesleyan University Football at Oberlin
SUMMARY:Ohio Wesleyan University Football at Oberlin
DTSTART:20261024T170000Z
DTEND:20261024T200000Z
END:VEVENT
END:VCALENDAR
