BEGIN:VCALENDAR
VERSION:2.0
PRODID:-//hacksw/handcal//NONSGML v1.0//EN
CALSCALE:GREGORIAN
BEGIN:VEVENT
UID:69ea8a6376909
DTSTAMP:20260423T210851Z
DESCRIPTION:[W] Ohio Wesleyan University Football at OberlinW 50-7Streaming Video: https://oberlinsportsnetwork.com/ https://www.battlingbishops.com/calendar.aspx?game_id=8266&amp\;sport_id=3
SUMMARY:Ohio Wesleyan University Football at Oberlin
DTSTART:20231028T160000Z
DTEND:20231028T190000Z
END:VEVENT
END:VCALENDAR
