BEGIN:VCALENDAR
VERSION:2.0
PRODID:-//hacksw/handcal//NONSGML v1.0//EN
CALSCALE:GREGORIAN
BEGIN:VEVENT
UID:69e8ddeadb9d4
DTSTAMP:20260422T144042Z
DESCRIPTION:[L] Ohio Wesleyan University Football at WabashL 13-30Streaming Video: https://sports.wabash.edu/wcvn
SUMMARY:Ohio Wesleyan University Football at Wabash
DTSTART:20240914T180000Z
DTEND:20240914T210000Z
END:VEVENT
END:VCALENDAR
