BEGIN:VCALENDAR
VERSION:2.0
PRODID:-//hacksw/handcal//NONSGML v1.0//EN
CALSCALE:GREGORIAN
BEGIN:VEVENT
UID:69e908b3f25eb
DTSTAMP:20260422T174315Z
DESCRIPTION:[L] Ohio Wesleyan University Football vs DenisonL 14-28Streaming Video: https://www.northcoastnetwork.com/ohiowesleyan/
SUMMARY:Ohio Wesleyan University Football vs Denison
DTSTART:20241116T180000Z
DTEND:20241116T210000Z
END:VEVENT
END:VCALENDAR
