BEGIN:VCALENDAR
VERSION:2.0
PRODID:-//hacksw/handcal//NONSGML v1.0//EN
CALSCALE:GREGORIAN
BEGIN:VEVENT
UID:69e840b4c4e18
DTSTAMP:20260422T032956Z
DESCRIPTION:[W] Ohio Wesleyan University Football vs OberlinW 74-0Streaming Video: https://www.northcoastnetwork.com/ohiowesleyan/
SUMMARY:Ohio Wesleyan University Football vs Oberlin
DTSTART:20240921T170000Z
DTEND:20240921T200000Z
END:VEVENT
END:VCALENDAR
