BEGIN:VCALENDAR
VERSION:2.0
PRODID:-//hacksw/handcal//NONSGML v1.0//EN
CALSCALE:GREGORIAN
BEGIN:VEVENT
UID:69e971c875e98
DTSTAMP:20260423T011136Z
DESCRIPTION:[W] Ohio Wesleyan University Football vs OtterbeinW 26-7Streaming Video: https://www.northcoastnetwork.com/ohiowesleyan/
SUMMARY:Ohio Wesleyan University Football vs Otterbein
DTSTART:20240907T220000Z
DTEND:20240908T010000Z
END:VEVENT
END:VCALENDAR
