BEGIN:VCALENDAR
VERSION:2.0
PRODID:-//hacksw/handcal//NONSGML v1.0//EN
CALSCALE:GREGORIAN
BEGIN:VEVENT
UID:69e6fa718fcfa
DTSTAMP:20260421T041753Z
DESCRIPTION:Ohio Wesleyan University Football vs WabashStreaming Video: https://www.northcoastnetwork.com/ohiowesleyan/
SUMMARY:Ohio Wesleyan University Football vs Wabash
DTSTART:20261031T170000Z
DTEND:20261031T200000Z
END:VEVENT
END:VCALENDAR
