BEGIN:VCALENDAR
VERSION:2.0
PRODID:-//hacksw/handcal//NONSGML v1.0//EN
CALSCALE:GREGORIAN
BEGIN:VEVENT
UID:69ecbe8d48d3f
DTSTAMP:20260425T131557Z
DESCRIPTION:[L] Ohio Wesleyan University Football vs WabashL 13-31Streaming Video: https://www.northcoastnetwork.com/ohiowesleyan/ https://www.battlingbishops.com/calendar.aspx?game_id=8263&amp\;sport_id=3
SUMMARY:Ohio Wesleyan University Football vs Wabash
DTSTART:20230930T170000Z
DTEND:20230930T200000Z
END:VEVENT
END:VCALENDAR
