BEGIN:VCALENDAR
VERSION:2.0
PRODID:-//hacksw/handcal//NONSGML v1.0//EN
CALSCALE:GREGORIAN
BEGIN:VEVENT
UID:69e71fe62a75c
DTSTAMP:20260421T065742Z
DESCRIPTION:Ohio Wesleyan University Football vs Washington (Mo.) - Senior DayStreaming Video: https://www.northcoastnetwork.com/ohiowesleyan/
SUMMARY:Ohio Wesleyan University Football vs Washington (Mo.) - Senior Day
DTSTART:20261107T180000Z
DTEND:20261107T210000Z
END:VEVENT
END:VCALENDAR
