BEGIN:VCALENDAR
VERSION:2.0
PRODID:-//hacksw/handcal//NONSGML v1.0//EN
CALSCALE:GREGORIAN
BEGIN:VEVENT
UID:69e6a1e31b64a
DTSTAMP:20260420T220003Z
DESCRIPTION:Ohio Wesleyan University Football vs WittenbergStreaming Video: https://www.northcoastnetwork.com/ohiowesleyan/
SUMMARY:Ohio Wesleyan University Football vs Wittenberg
DTSTART:20261017T170000Z
DTEND:20261017T200000Z
END:VEVENT
END:VCALENDAR
