BEGIN:VCALENDAR
VERSION:2.0
PRODID:-//hacksw/handcal//NONSGML v1.0//EN
CALSCALE:GREGORIAN
BEGIN:VEVENT
UID:69e9e750cbb7b
DTSTAMP:20260423T093304Z
DESCRIPTION:[L] Ohio Wesleyan University Football vs WittenbergL 28-36Streaming Video: https://www.northcoastnetwork.com/ohiowesleyan/ https://www.battlingbishops.com/calendar.aspx?game_id=8267&amp\;sport_id=3
SUMMARY:Ohio Wesleyan University Football vs Wittenberg
DTSTART:20231104T200000Z
DTEND:20231104T230000Z
END:VEVENT
END:VCALENDAR
