BEGIN:VCALENDAR
VERSION:2.0
PRODID:-//hacksw/handcal//NONSGML v1.0//EN
CALSCALE:GREGORIAN
BEGIN:VEVENT
UID:69e64c2d2f2d9
DTSTAMP:20260420T155421Z
DESCRIPTION:Ohio Wesleyan University Football vs Wooster - HomecomingStreaming Video: https://www.northcoastnetwork.com/ohiowesleyan/
SUMMARY:Ohio Wesleyan University Football vs Wooster - Homecoming
DTSTART:20261003T180000Z
DTEND:20261003T210000Z
END:VEVENT
END:VCALENDAR
