BEGIN:VCALENDAR
VERSION:2.0
PRODID:-//hacksw/handcal//NONSGML v1.0//EN
CALSCALE:GREGORIAN
BEGIN:VEVENT
UID:69e821e690e6e
DTSTAMP:20260422T011830Z
DESCRIPTION:[L] Ohio Wesleyan University Men's Basketball at Akron (exhibition)L 57-88
SUMMARY:Ohio Wesleyan University Men's Basketball at Akron (exhibition)
DTSTART:20241109T000000Z
DTEND:20241109T020000Z
END:VEVENT
END:VCALENDAR
