BEGIN:VCALENDAR
VERSION:2.0
PRODID:-//hacksw/handcal//NONSGML v1.0//EN
CALSCALE:GREGORIAN
BEGIN:VEVENT
UID:69eafb31d3926
DTSTAMP:20260424T051009Z
DESCRIPTION:[W] Ohio Wesleyan University Men's Basketball at AlverniaW 74-66Streaming Video: https://www.youtube.com/@welchflames/streams
SUMMARY:Ohio Wesleyan University Men's Basketball at Alvernia
DTSTART:20241220T170000Z
DTEND:20241220T190000Z
END:VEVENT
END:VCALENDAR
