BEGIN:VCALENDAR
VERSION:2.0
PRODID:-//hacksw/handcal//NONSGML v1.0//EN
CALSCALE:GREGORIAN
BEGIN:VEVENT
UID:69e9d572b1dc3
DTSTAMP:20260423T081650Z
DESCRIPTION:[W] Ohio Wesleyan University Men's Basketball at CapitalW 84-76Streaming Video: https://athletics.capital.edu/sports/2020/4/27/watch-mbb.aspx
SUMMARY:Ohio Wesleyan University Men's Basketball at Capital
DTSTART:20241126T230000Z
DTEND:20241127T010000Z
END:VEVENT
END:VCALENDAR
