BEGIN:VCALENDAR
VERSION:2.0
PRODID:-//hacksw/handcal//NONSGML v1.0//EN
CALSCALE:GREGORIAN
BEGIN:VEVENT
UID:69e77f0bb145b
DTSTAMP:20260421T134339Z
DESCRIPTION:[L] Ohio Wesleyan University Men's Basketball at DenisonL 66-78Streaming Video: https://www.northcoastnetwork.com/denison/ https://www.battlingbishops.com/calendar.aspx?game_id=8562&amp\;sport_id=5
SUMMARY:Ohio Wesleyan University Men's Basketball at Denison
DTSTART:20231209T200000Z
DTEND:20231209T220000Z
END:VEVENT
END:VCALENDAR
