BEGIN:VCALENDAR
VERSION:2.0
PRODID:-//hacksw/handcal//NONSGML v1.0//EN
CALSCALE:GREGORIAN
BEGIN:VEVENT
UID:69eb3a7f7800f
DTSTAMP:20260424T094015Z
DESCRIPTION:[L] Ohio Wesleyan University Men's Basketball at DenisonL 63-92Streaming Video: https://www.northcoastnetwork.com/denison/
SUMMARY:Ohio Wesleyan University Men's Basketball at Denison
DTSTART:20250102T230000Z
DTEND:20250103T010000Z
END:VEVENT
END:VCALENDAR
