BEGIN:VCALENDAR
VERSION:2.0
PRODID:-//hacksw/handcal//NONSGML v1.0//EN
CALSCALE:GREGORIAN
BEGIN:VEVENT
UID:69ed3b0bce98a
DTSTAMP:20260425T220707Z
DESCRIPTION:[W] Ohio Wesleyan University Men's Basketball at HiramW 87-75Streaming Video: https://northcoastnetwork.com/hiram/
SUMMARY:Ohio Wesleyan University Men's Basketball at Hiram
DTSTART:20250206T010000Z
DTEND:20250206T030000Z
END:VEVENT
END:VCALENDAR
