BEGIN:VCALENDAR
VERSION:2.0
PRODID:-//hacksw/handcal//NONSGML v1.0//EN
CALSCALE:GREGORIAN
BEGIN:VEVENT
UID:69eac230a2bc3
DTSTAMP:20260424T010656Z
DESCRIPTION:[L] Ohio Wesleyan University Men's Basketball at HopeL 69-79Streaming Video: https://youtube.com/hopeathletics
SUMMARY:Ohio Wesleyan University Men's Basketball at Hope
DTSTART:20241214T200000Z
DTEND:20241214T220000Z
END:VEVENT
END:VCALENDAR
