BEGIN:VCALENDAR
VERSION:2.0
PRODID:-//hacksw/handcal//NONSGML v1.0//EN
CALSCALE:GREGORIAN
BEGIN:VEVENT
UID:69e971da874dd
DTSTAMP:20260423T011154Z
DESCRIPTION:[L] Ohio Wesleyan University Men's Basketball at Illinois WesleyanL 55-84Streaming Video: https://www.iwusports.com/showcase?Live=648 https://www.battlingbishops.com/calendar.aspx?game_id=8552&amp\;sport_id=5
SUMMARY:Ohio Wesleyan University Men's Basketball at Illinois Wesleyan
DTSTART:20231111T010000Z
DTEND:20231111T030000Z
END:VEVENT
END:VCALENDAR
