BEGIN:VCALENDAR
VERSION:2.0
PRODID:-//hacksw/handcal//NONSGML v1.0//EN
CALSCALE:GREGORIAN
BEGIN:VEVENT
UID:69ecd28b2ef0c
DTSTAMP:20260425T144115Z
DESCRIPTION:[L] Ohio Wesleyan University Men's Basketball at KenyonL 70-73 (OT)Streaming Video: https://www.northcoastnetwork.com/kenyon/?B=1509210
SUMMARY:Ohio Wesleyan University Men's Basketball at Kenyon
DTSTART:20250130T000000Z
DTEND:20250130T020000Z
END:VEVENT
END:VCALENDAR
